BEGIN:VCALENDAR
VERSION:2.0
PRODID:-//Friends of Taconic State Park - ECPv6.15.15//NONSGML v1.0//EN
CALSCALE:GREGORIAN
METHOD:PUBLISH
X-ORIGINAL-URL:https://www.friendsoftsp.org
X-WR-CALDESC:Events for Friends of Taconic State Park
REFRESH-INTERVAL;VALUE=DURATION:PT1H
X-Robots-Tag:noindex
X-PUBLISHED-TTL:PT1H
BEGIN:VTIMEZONE
TZID:America/New_York
BEGIN:DAYLIGHT
TZOFFSETFROM:-0500
TZOFFSETTO:-0400
TZNAME:EDT
DTSTART:20080309T070000
END:DAYLIGHT
BEGIN:STANDARD
TZOFFSETFROM:-0400
TZOFFSETTO:-0500
TZNAME:EST
DTSTART:20081102T060000
END:STANDARD
BEGIN:DAYLIGHT
TZOFFSETFROM:-0500
TZOFFSETTO:-0400
TZNAME:EDT
DTSTART:20090308T070000
END:DAYLIGHT
BEGIN:STANDARD
TZOFFSETFROM:-0400
TZOFFSETTO:-0500
TZNAME:EST
DTSTART:20091101T060000
END:STANDARD
BEGIN:DAYLIGHT
TZOFFSETFROM:-0500
TZOFFSETTO:-0400
TZNAME:EDT
DTSTART:20100314T070000
END:DAYLIGHT
BEGIN:STANDARD
TZOFFSETFROM:-0400
TZOFFSETTO:-0500
TZNAME:EST
DTSTART:20101107T060000
END:STANDARD
END:VTIMEZONE
BEGIN:VEVENT
DTSTART;TZID=America/New_York:20090206T080000
DTEND;TZID=America/New_York:20090206T170000
DTSTAMP:20260424T170114
CREATED:20190206T122521Z
LAST-MODIFIED:20190206T122521Z
UID:12085-1233907200-1233939600@www.friendsoftsp.org
SUMMARY:HQ#DOWNLOAD ALBUM: ARIANA GRANDE : “THANK U NEXT!” "ALBUM" link
DESCRIPTION:HQ#DOWNLOAD ALBUM: ARIANA GRANDE : “THANK U NEXT!” “ALBUM” link \n  \nFULL ALBUM LINK: http://bit.ly/ArianaGrandeThankUNextLeak \n  \nAriana Grande Thank U\, Next Zippyshare Gush Lagu. \nAriana Grande – Thank You Next MP3. Critics have compared Grande’s broad singing variety to that of Mariah Carey. Her awards include 3 American Music Awards\, 3 MTV Europe Music Awards\, two MTV Video Music Awards and four Grammy Award elections. All 3 of her albums have been certified platinum by the RIAA. She has actually supported a range of charities and has a large following on social media. In 2016\, Time named Grande among the 100 most prominent individuals in the world on their annual list. In 2018\, Signboard named her Female of the Year. \nFor some Spotify users\, you may prefer to move or sync this song from Spotify to your portable devices like some generic MP3 gamers for enjoying on the relocation. Portable MP3 players however are not supported by Spotify and there is a big limit that we can’t transform the Spotify songs to any other typical formats because of the DRM security on Spotify music. But don’t worry\, the following short article will teach you how to download Ariana Grande’s Thank U\, Next” from Spotify to MP3. \nAriana Grande new album 2018 is Sweetener as the 4th album\, which was released on August 17\, 2018. With selling 230\,000 album-equivalent unites\, Sweetener album peaked at No. 1 on the US Signboard 200. This album features visitor looks from Missy Elliott\, Pharrell Williams\, and Nicki Minaj. There are three leading popular singles in this album\, namely ‘No Tears Delegated Cry’\, ‘God Is a Lady’\, and ‘Breathin’. \nNot only still hitting on primary\, which is the 7th week\, ‘Thank U\, Next’ however also has broken a string of records\, such as the record for the most plays by a female artist in one day on Spotify. How can we miss out on such excellent singer and her songs! Let’s concentrate on Ariana Grande songs download and provide the detailed intro on her all albums. \nAriana Grande – Thank U Next\, God Is A Woman Vocalist Ariana Grande spits emotionally on her brand-new tune Thank You Next\, The new tune talks pretty much about Ariana Grande Ex\, She made mention of Pete Davidson & Mac Miller off Thank You Next. The latter album was launched in August in 2015. It is the lead single from her approaching 5th studio album of the exact same name. \nFollowing the release of the album’s lead single\, it was leaked a photo of a sheet including a possible track listing\, obviously written by Grande. The image included tunes\, at that time unknown\, titled NASA”\, Think of”\, 7 Rings”\, Phony Smile”\, In My Head”\, Keep In Mind”\, Make Up” and Ghostin”\, of which all of them were validated months later on\, except Keep in mind” which was replaced by Break Up With Your Girlfriend\, I’m Bored”. \nMerely push the ‘Convert’ button at the bottom-right corner of the conversion window and after that AudFree Spotify Music Converter will begin downloading Ariana Grand tunes offline and transforming them to MP3 audio files so that you can move them to any gadget for offline playback. Once done\, you can find Ariana Grande MP3 songs on the destination folder.
URL:https://www.friendsoftsp.org/event/hqdownload-album-ariana-grande-thank-u-next-album-link/
CATEGORIES:Album Download
END:VEVENT
BEGIN:VEVENT
DTSTART;TZID=America/New_York:20090206T080000
DTEND;TZID=America/New_York:20090206T170000
DTSTAMP:20260424T170114
CREATED:20190206T122442Z
LAST-MODIFIED:20190206T122442Z
UID:12083-1233907200-1233939600@www.friendsoftsp.org
SUMMARY:""DOWNLOAD#@""™ ARIANA GRANDE THANK U NEXT FULL ALBUM
DESCRIPTION:“”DOWNLOAD#@””™ ARIANA GRANDE THANK U NEXT FULL ALBUM \n  \nFULL ALBUM LINK: http://bit.ly/ArianaGrandeThankUNextLeak \n  \nAriana Grande– Thank U\, Next (MP3. \nAriana Grande – Thank You Next MP3. Thank U\, Next” is a tune carried out by Ariana Grande from her upcoming 5th studio album of the very same name. The track was surprise launched\, without any prior announcement\, on November 3 this year. Days after release\, Thank U\, Next” debuted at No. 1 on Billboard Hot 100 chart\, dethroning Maroon 5 and Cardi B’s Girls Like You\,” which had actually reigned for seven weeks directly. This tune is Grande’s very first chart-topper on Signboard Hot 100\, and also the very first tune by a female artist to debut at No. 1 since Adele’s Hello” squashed the charts back in 2015. \nAriana Grande albums and songs are available in great deals of music streaming services like Apple Music\, Deezer\, Spotify\, Amazon Music as well as Google Play Music. But when it pertains to play Ariana Grande tunes offline on your portable gadgets and music players\, it is necessary to keep in mind that no matter which audio source you select\, there is no way on Ariana Grande complete album free download unless you charge for its subscription charge on a monthly basis. \nThe lead single of Ariana Grande’s upcoming 5th studio album – Thank U\, Next is definitely a must-have on your playlist. Check out the post to know where you can release download Ariana Grande Thank U Next Mp3. The following is a detailed tutorial about how to download Ariana Grande’s Thank U\, Next” from Spotify to MP3 format. Please download NoteBurner Spotify Music Converter on your computer initially before getting started. \nAnd fun reality\, one of the tracks on the upcoming Ariana Grande album has 14 writers. The 25-year-old has let fans know there will be no cooperations on the upcoming album\, which isn’t surprising seeing as the entire record was born spontaneously during an especially unstable time in the vocalist’s life. Ari’s officially finished the album and is now teasing fans with a release date\, which is seeming dropped at some point in early February according to her latest tweets. \nAriana Grande has actually explained the positive meaning behind her burn book” in the record-breaking video for Thank U\, Next”. The album closes with a track titled “Break Up With Your Sweetheart. Grande is up for 2 Grammy awards at the 2019 event\, for best pop solo efficiency for God Is A Girl” and finest pop singing album for Sweetener.” She’s been chosen four times previously. \nThere are numerous tools in the market that can help you easily download Spotify songs to MP3. Amongst them\, the premier one is NoteBurner Spotify Music Converter It is a wise DRM elimination app specifically designed for users to download and transform any track\, album\, artist and playlist from Spotify to DRM-free MP3\, AAC\, WAV\, or FLAC format With a sophisticated DRM decrypting method that varies from conventional recording\, it can keep the initial audio quality and ID3 tags of the music in output files. With the aid of such a tool\, you can quickly download and convert Ariana Grande’s Thank U\, Next” from Spotify to MP3 format\, and stream on any devices as you want. \nThank U\, Next (elegant in all lowercase) is the upcoming 5th studio album by American vocalist Ariana Grande It will be released by Republic Records on February 8\, 2019\, 6 months after her previous album Sweetener (2018 ). 6 7 Grande started working on the album in October 2018\, in the midst of personal matters including the death of her ex-boyfriend Mac Miller and break up with fiancé Pete Davidson\, and was finished that December.
URL:https://www.friendsoftsp.org/event/download-ariana-grande-thank-u-next-full-album/
CATEGORIES:Album Download
END:VEVENT
BEGIN:VEVENT
DTSTART;TZID=America/New_York:20090206T080000
DTEND;TZID=America/New_York:20090206T170000
DTSTAMP:20260424T170114
CREATED:20190206T122410Z
LAST-MODIFIED:20190606T110431Z
UID:12081-1233907200-1233939600@www.friendsoftsp.org
SUMMARY:[Get Now] Leaked: FUTURE SAVE ME Full Album Download
DESCRIPTION:[Get Now] Leaked: FUTURE SAVE ME Full Album Download \n  \nFuture Save Me Album Download \nfull album future save me album zip link here —\nhttps://t.co/XsNH24IUd2 \n  \nThe Future Will Be Complicated. \nAfter a peaceful 2018\, Future is back with a 20-track album. I believe i look cool in and when the time comes there will be bits and goodies relating to the creation of our next record (dropping in 2019)\,” El-P wrote on an Instagram post that highlights his development and future strategies. Trip reveals details of their upcoming album ‘This Is Not A Safe Location’\, to be released on August 16th by means of Wichita Recordings. \nThe band also revealed a GoFundMe campaign to assist get their independent career and new album off the ground and a new trip that is being available in the Fall of 2019. This album came a week after Future launched a documentary entitled The WIZRD” that information his past experiences maturing in East Atlanta in what is known as Zone 6.” This documentary also shows his innovative capability and impact on hip-hop culture. \nHip-hop superstar Future is known for dropping full-length brand-new projects with little caution and after that seeing them launching close to the top\, and now he’s done so once again with his newest proper album The WIZRD (which is technically entitled Future Hndrxx Provides: The Wizrd\, however which is typically just referred to by its much shorter name)\, which begins at the top of the Signboard 200 with little competitors. \nThe Wizrd” is apparently an end of a chapter” in Future’s rap profession. A week before the album’s release\, THE WIZRD documentary was launched specifically on Apple Music. The Decision: If there’s anybody who for some reason hasn’t listened to Future until now\, The WIZRD is the ideal task for them to begin their adventure into the rap artist’s various colored discography. \nAdding another measurement to this next phase\, Future shares the details for his Official Documentary\, The WIZRD\, debuting solely worldwide on Apple Music. Never ever Stop” serves as the intro-track on Future’s The WIZRD. The vocalist revealed in September 2018 that she did have a brand-new body of work finished- a follow-up in her letter series\, this one titled A She’s likewise previewed a new tune on Instagram recently\, but besides for these crumbs\, we don’t have any solid info on when or what to anticipate from a brand-new SZA album.
URL:https://www.friendsoftsp.org/event/get-now-leaked-future-save-me-full-album-download/
CATEGORIES:Album Download
END:VEVENT
BEGIN:VEVENT
DTSTART;TZID=America/New_York:20090206T080000
DTEND;TZID=America/New_York:20090206T170000
DTSTAMP:20260424T170114
CREATED:20190206T122313Z
LAST-MODIFIED:20190606T110334Z
UID:12079-1233907200-1233939600@www.friendsoftsp.org
SUMMARY:[ZIP] Album Download FUTURE SAVE ME Leaked Full Free
DESCRIPTION:[ZIP] Album Download FUTURE SAVE ME Leaked Full Free \n  \nFuture Save Me Album Download \nfull album future save me album zip link here —\nhttps://t.co/XsNH24IUd2 \n  \n” Toxin Future”. \nOn Friday\, the Atlanta hip-hop titan provided a brand brand-new single and video for his latest effort\, Squashed Up.” Propelled by icy 808s\, Future raps over the high-energy track about his affinity for diamonds. Including another dimension to this next phase\, Future shares the information for his Authorities Documentary\, The WIZRD\, debuting specifically worldwide on Apple Music. Never Stop” acts as the intro-track on Future’s The WIZRD. The vocalist exposed in September 2018 that she did have a new body of work finished- a follow-up in her letter series\, this one titled A She’s also previewed a new song on Instagram just recently\, however besides for these crumbs\, we don’t have any strong info on when or what to expect from a new SZA album. \nThe other 2 albums worth of music will remain in the vault till Staples decides otherwise. Black Album is distinct in that Cuomo wrote much of the music on piano. Drizzy is well-known for dropping at least one album every year\, and Future often drops an album each week. Just like the band showed at its hit-packed iHeartRadio Album Release Party Thursday night\, February 28\, Weezer’s brochure is amongst the deepest and most diverse of any act in music today. \nStill\, everything simply set the phase for his full-length debut\, What A Time To Be Alive\, showing up March 1\, 2019 through Impressive Records. THURSDAY\, MAY 22 2017 – Atlanta music super star FUTURE has actually announced his ‘No one Safe’ tour carrying out in New Zealand for the first time at Auckland’s Glow Arena on Thursday\, September 28. Poison Future is the debut complete length from Canadian noise-punk quartet Protruders\, and it provides some crafty songwriting and constantly moving filthy grooves. \nTheir most recent offering\, Take.2 We Are Here\, bowed at # 5 on the Signboard top World Albums Chart and gathered honor from Complex\, Idolator\, Billboard\, Cosmopolitan\, and NME Paper Magazine put it finest though\, You don’t have to be a rocket scientist to understand that Monsta X’s nevertheless high-energy however darkly textured music is the reason that they differ from other acts in the lively and continuously broadening K-Pop scene.” Not to discuss\, they likewise peaked at # 4 on the sought after Social 50. \nThe WIZRD” offered us what any genuine Future fan desired\, various circulations and cadences\, the raw emotion and retelling of experiences maturing in Atlanta\, and naturally\, strikes to jam out to with your buddies. The album’s lead single\, Squashed Up\,” was released on January 4\, 2019. We’ll keep you upgraded as more information concerning Future’s next significant release appears.
URL:https://www.friendsoftsp.org/event/zip-album-download-future-save-me-leaked-full-free/
CATEGORIES:Album Download
END:VEVENT
BEGIN:VEVENT
DTSTART;TZID=America/New_York:20090206T080000
DTEND;TZID=America/New_York:20090206T170000
DTSTAMP:20260424T170114
CREATED:20190206T122217Z
LAST-MODIFIED:20190606T110202Z
UID:12077-1233907200-1233939600@www.friendsoftsp.org
SUMMARY:(Music Online) FUTURE "SAVE ME" Download Album Leak
DESCRIPTION:(Music Online) FUTURE “SAVE ME” Download Album Leak \n  \nfull album future save me album zip link here —\nhttps://t.co/XsNH24IUd2 \n  \nTemptation The WIZRD 2019 New Album. \nLast night (April 4)\, Future was hanging out with Drake in London after the OVO rapper brought out the Atlanta spitta for a 3rd night in a row at the O2 Arena. Turns out there will not be that long of an await the next LP\, as today (April 23) Flight in-depth This Is Not A Safe Place\, the group’s sixth studio album that includes a dozen brand-new tracks and is set to get here August 16. To get us in the mood\, Ride have also released the album’s lead single\, a spunky guitar-rock tune called Future Love”\, and it recalls the NYC indie scene of the early 2010s. \nIn addition\, Future likewise exposed details for his documentary\, The WIZRD\, which will drop exclusively on Apple Music. Future’s newest album\, “THE WIZRD\, is now available on Apple Music together with an unique documentary. However he’s refrained from doing yet: Future will return on January 18 with The WIZRD\, a brand-new album and feature-length documentary. There was no main word on the album however fans were hypothesizing this would be the first track off the job. \nIn 2017\, he unleashed the platinum-certified Future and gold-selling Hndrxx back-to-back and emerged as the very first artist to release 2 Billboard Top 200 primary in successive weeks.” Future’s Mask Off” went quadruple-platinum\, ascended to # 5 on the Hot 100\, and became his biggest smash yet. Future flaunts his wealth by speaking about his variety of jewelry in the first single of the album titled Crushed Up.” The appealing chorus\, which over and over again shouts about diamonds\, could turn this track into among the more popular of the lot. \nA band’s sophomore album is a significant moment in their discography — However\, there are no 2nd album blues for Checking out band The Amazons on their brand brand-new release Future Dust. SZA launched a career-changing album with CTRL in 2017. Ever since\, he has actually launched a variety of songs\, 4 EPs and one studio album. At 20 tunes for just over an hour long\, there a lot for Future to say. \nFuture starts the album with a hearty helping of introspection on the Signboard Hitmakers & ATL Jacob-produced Never Ever Stop.” With bars that glide over the production focusing on his capability to get rid of in the face of hardship\, Future sets the tone for the remainder of the WIZRD. From up-and-comer Blueface to the independent experience Chance the Rap artist\, here is our list of the most awaited albums of 2019.
URL:https://www.friendsoftsp.org/event/music-online-future-save-me-download-album-leak/
CATEGORIES:Album Download
END:VEVENT
END:VCALENDAR